BEGIN:VCALENDAR
VERSION:2.0
PRODID:SchoolNow
CALSCALE:GREGORIAN
BEGIN:VEVENT
UID:2e264960-3859-11f1-8d2f-0e238fb75fa9
DTSTAMP:20260422T075010Z
SUMMARY:Record Day (No School)
URL;VALUE=URI:https://www.wenatcheeschools.org/col/calendar/8994213/record-
 day-no-school
DTSTART;VALUE=DATE:20270119
DTEND;VALUE=DATE:20270120
END:VEVENT
END:VCALENDAR
