BEGIN:VCALENDAR
VERSION:2.0
PRODID:SchoolNow
CALSCALE:GREGORIAN
BEGIN:VEVENT
UID:2e264e24-3859-11f1-842f-0e238fb75fa9
DTSTAMP:20260422T135511Z
SUMMARY:Non-Contract Day (No School)
URL;VALUE=URI:https://www.wenatcheeschools.org/col/calendar/8994216/non-con
 tract-day-no-school
DTSTART;VALUE=DATE:20270528
DTEND;VALUE=DATE:20270529
END:VEVENT
END:VCALENDAR
