BEGIN:VCALENDAR
VERSION:2.0
PRODID:SchoolNow
CALSCALE:GREGORIAN
BEGIN:VEVENT
UID:2e265acc-3859-11f1-baf1-0e238fb75fa9
DTSTAMP:20260422T135511Z
SUMMARY:Last Day of School  (Students Dismissed 3 Hours Early)
URL;VALUE=URI:https://www.wenatcheeschools.org/col/calendar/8994229/last-da
 y-of-school-students-dismissed-3-hours-early
DTSTART;VALUE=DATE:20270611
DTEND;VALUE=DATE:20270612
END:VEVENT
END:VCALENDAR
