BEGIN:VCALENDAR
VERSION:2.0
PRODID:SchoolNow
CALSCALE:GREGORIAN
BEGIN:VEVENT
UID:2e265bbc-3859-11f1-b06d-0e238fb75fa9
DTSTAMP:20260422T075010Z
SUMMARY:PD Day (Student Early Release) - Principal/District Directed - Clas
 sified Training
URL;VALUE=URI:https://www.wenatcheeschools.org/col/calendar/8994230/pd-day-
 student-early-release-principal-district-directed-classified-training
DTSTART;VALUE=DATE:20270317
DTEND;VALUE=DATE:20270318
END:VEVENT
END:VCALENDAR
