BEGIN:VCALENDAR
VERSION:2.0
PRODID:SchoolNow
CALSCALE:GREGORIAN
BEGIN:VEVENT
UID:2e266300-3859-11f1-b036-0e238fb75fa9
DTSTAMP:20260422T075010Z
SUMMARY:New Year's Day
URL;VALUE=URI:https://www.wenatcheeschools.org/col/calendar/8994238/new-yea
 rs-day
DTSTART;VALUE=DATE:20270101
DTEND;VALUE=DATE:20270102
END:VEVENT
END:VCALENDAR
