BEGIN:VCALENDAR
VERSION:2.0
PRODID:SchoolNow
CALSCALE:GREGORIAN
BEGIN:VEVENT
UID:7a8a1f9a-b243-11ea-8f19-0a77cac6d965
DTSTAMP:20200701T163307Z
SUMMARY:Virtual Summer School Parent Information Meeting
URL;VALUE=URI:https://www.wenatcheeschools.org/district-calendars/calendar/
 2263907/virtual-summer-school-parent-information-meeting
DTSTART:20200708T003000Z
DTEND:20200708T013000Z
END:VEVENT
END:VCALENDAR
