BEGIN:VCALENDAR
VERSION:2.0
PRODID:SchoolNow
CALSCALE:GREGORIAN
BEGIN:VEVENT
UID:276ca14a-f0a7-11eb-8e2c-0e9fc6984001
DTSTAMP:20210729T195707Z
SUMMARY:School Offices Open
URL;VALUE=URI:https://www.wenatcheeschools.org/district-calendars/calendar/
 2650242/school-offices-open
DTSTART:20210811T195600Z
DTEND:20210811T205600Z
END:VEVENT
END:VCALENDAR
