BEGIN:VCALENDAR
VERSION:2.0
PRODID:SchoolNow
CALSCALE:GREGORIAN
BEGIN:VEVENT
UID:a5811844-0f78-11ee-a5e7-0a420381aa6b
DTSTAMP:20250913T232220Z
SUMMARY:Interagency Meeting - 1/16/24
LOCATION:WSD Central Office
URL;VALUE=URI:https://www.wenatcheeschools.org/district-calendars/calendar/
 4413636/interagency-meeting-1-16-24
DTSTART:20240116T183000Z
DTEND:20240116T200000Z
END:VEVENT
END:VCALENDAR
