BEGIN:VCALENDAR
VERSION:2.0
PRODID:SchoolNow
CALSCALE:GREGORIAN
BEGIN:VEVENT
UID:d113f026-0f78-11ee-8369-0a420381aa6b
DTSTAMP:20250913T232320Z
SUMMARY:Interagency Meeting - 5/7/24
LOCATION:WSD Central Office
URL;VALUE=URI:https://www.wenatcheeschools.org/district-calendars/calendar/
 4413640/interagency-meeting-5-7-24
DTSTART:20240507T173000Z
DTEND:20240507T190000Z
END:VEVENT
END:VCALENDAR
