BEGIN:VCALENDAR
VERSION:2.0
PRODID:SchoolNow
CALSCALE:GREGORIAN
BEGIN:VEVENT
UID:e0c5dc78-0f78-11ee-a05f-0a420381aa6b
DTSTAMP:20250913T232333Z
SUMMARY:Interagency Meeting - 6/4/24
LOCATION:WSD Central Office
URL;VALUE=URI:https://www.wenatcheeschools.org/district-calendars/calendar/
 4413641/interagency-meeting-6-4-24
DTSTART:20240604T173000Z
DTEND:20240604T190000Z
END:VEVENT
END:VCALENDAR
