BEGIN:VCALENDAR
VERSION:2.0
PRODID:SchoolNow
CALSCALE:GREGORIAN
BEGIN:VEVENT
UID:28896a70-0f79-11ee-9b2c-0a420381aa6b
DTSTAMP:20230620T144554Z
SUMMARY:Ready for Kinder
LOCATION:District Office\, Main Board Room
URL;VALUE=URI:https://www.wenatcheeschools.org/district-calendars/calendar/
 4413644/ready-for-kinder-clone
DTSTART:20240510T003000Z
DTEND:20240510T023000Z
END:VEVENT
END:VCALENDAR
