BEGIN:VCALENDAR
VERSION:2.0
PRODID:SchoolNow
CALSCALE:GREGORIAN
BEGIN:VEVENT
UID:ab1edff6-9831-11ee-89da-0a58a9feac02
DTSTAMP:20231211T142918Z
SUMMARY:Board Meeting
LOCATION:District Office\, 235 Sunset Avenue Wenatchee\, WA
URL;VALUE=URI:https://www.wenatcheeschools.org/district-calendars/calendar/
 4992828/board-meeting-clone
DTSTART:20240529T010000Z
DTEND:20240529T020000Z
END:VEVENT
END:VCALENDAR
