BEGIN:VCALENDAR
VERSION:2.0
PRODID:SchoolNow
CALSCALE:GREGORIAN
BEGIN:VEVENT
UID:bdd61498-9831-11ee-a146-0a58a9feac02
DTSTAMP:20231211T142950Z
SUMMARY:Board Meeting
LOCATION:District Office\, 235 Sunset Avenue Wenatchee\, WA
URL;VALUE=URI:https://www.wenatcheeschools.org/district-calendars/calendar/
 4992830/board-meeting-clone
DTSTART:20240515T010000Z
DTEND:20240515T020000Z
END:VEVENT
END:VCALENDAR
