BEGIN:VCALENDAR
VERSION:2.0
PRODID:SchoolNow
CALSCALE:GREGORIAN
BEGIN:VEVENT
UID:cb0adcfc-9831-11ee-b693-0a58a9feac02
DTSTAMP:20231211T143012Z
SUMMARY:Board Meeting
LOCATION:District Office\, 235 Sunset Avenue Wenatchee\, WA
URL;VALUE=URI:https://www.wenatcheeschools.org/district-calendars/calendar/
 4992831/board-meeting-clone
DTSTART:20240626T010000Z
DTEND:20240626T020000Z
END:VEVENT
END:VCALENDAR
