BEGIN:VCALENDAR
VERSION:2.0
PRODID:SchoolNow
CALSCALE:GREGORIAN
BEGIN:VEVENT
UID:d2f63894-9831-11ee-b575-0e579dc3694d
DTSTAMP:20231211T143025Z
SUMMARY:Board Meeting
LOCATION:District Office\, 235 Sunset Avenue Wenatchee\, WA
URL;VALUE=URI:https://www.wenatcheeschools.org/district-calendars/calendar/
 4992832/board-meeting-clone
DTSTART:20240612T010000Z
DTEND:20240612T020000Z
END:VEVENT
END:VCALENDAR
