BEGIN:VCALENDAR
VERSION:2.0
PRODID:SchoolNow
CALSCALE:GREGORIAN
BEGIN:VEVENT
UID:83a08ea8-2818-11ef-8227-0a58a9feac02
DTSTAMP:20240611T173202Z
SUMMARY:Youth Sports Spectacular
LOCATION:Wenatchee Apple Bowl
URL;VALUE=URI:https://www.wenatcheeschools.org/district-calendars/calendar/
 6108194/youth-sports-spectacular
DTSTART:20240912T010000Z
DTEND:20240912T030000Z
END:VEVENT
END:VCALENDAR
