BEGIN:VCALENDAR
VERSION:2.0
PRODID:SchoolNow
CALSCALE:GREGORIAN
BEGIN:VEVENT
UID:75865310-349e-11ef-87cb-0affdeb10cc3
DTSTAMP:20240627T160105Z
SUMMARY:Migrant Family PAC Night
LOCATION:WHS New Commons\, Cafeteria
URL;VALUE=URI:https://www.wenatcheeschools.org/district-calendars/calendar/
 6176121/migrant-family-pac-night
DTSTART:20241018T000000Z
DTEND:20241018T020000Z
END:VEVENT
END:VCALENDAR
