BEGIN:VCALENDAR
VERSION:2.0
PRODID:SchoolNow
CALSCALE:GREGORIAN
BEGIN:VEVENT
UID:b53344a0-349e-11ef-a42e-0a58a9feac02
DTSTAMP:20240627T160252Z
SUMMARY:Migrant Family PAC Night
LOCATION:WHS New Commons\, Cafeteria\, Small Gym
URL;VALUE=URI:https://www.wenatcheeschools.org/district-calendars/calendar/
 6176123/migrant-family-pac-night
DTSTART:20250131T010000Z
DTEND:20250131T030000Z
END:VEVENT
END:VCALENDAR
