BEGIN:VCALENDAR
VERSION:2.0
PRODID:SchoolNow
CALSCALE:GREGORIAN
BEGIN:VEVENT
UID:e0e9086e-349e-11ef-9f7d-0a58a9feac02
DTSTAMP:20240627T160405Z
SUMMARY:Migrant Family PAC Night
LOCATION:WHS New Commons\, Cafeteria\, Small Gym
URL;VALUE=URI:https://www.wenatcheeschools.org/district-calendars/calendar/
 6176125/migrant-family-pac-night
DTSTART:20250328T000000Z
DTEND:20250328T020000Z
END:VEVENT
END:VCALENDAR
