BEGIN:VCALENDAR
VERSION:2.0
PRODID:SchoolNow
CALSCALE:GREGORIAN
BEGIN:VEVENT
UID:09705170-349f-11ef-bc5e-0a58a9feac02
DTSTAMP:20240627T160513Z
SUMMARY:Migrant Family PAC Night
LOCATION:WHS Auditorium\, New Commons\, Cafeteria and Kitchen
URL;VALUE=URI:https://www.wenatcheeschools.org/district-calendars/calendar/
 6176127/migrant-family-pac-night
DTSTART:20250522T000000Z
DTEND:20250522T023000Z
END:VEVENT
END:VCALENDAR
