BEGIN:VCALENDAR
VERSION:2.0
PRODID:SchoolNow
CALSCALE:GREGORIAN
BEGIN:VEVENT
UID:3fe959ae-349f-11ef-a6c0-0affdeb10cc3
DTSTAMP:20250913T232352Z
SUMMARY:Interagency Meeting - 9/10/24
LOCATION:WSD - Central Office
URL;VALUE=URI:https://www.wenatcheeschools.org/district-calendars/calendar/
 6176129/interagency-meeting-9-10-24
DTSTART:20240910T173000Z
DTEND:20240910T190000Z
END:VEVENT
END:VCALENDAR
