BEGIN:VCALENDAR
VERSION:2.0
PRODID:SchoolNow
CALSCALE:GREGORIAN
BEGIN:VEVENT
UID:4b816874-349f-11ef-861d-0a58a9feac02
DTSTAMP:20250913T232425Z
SUMMARY:Interagency Meeting - 10/8/24
LOCATION:WSD - Central Office
URL;VALUE=URI:https://www.wenatcheeschools.org/district-calendars/calendar/
 6176130/interagency-meeting-10-8-24
DTSTART:20241008T173000Z
DTEND:20241008T190000Z
END:VEVENT
END:VCALENDAR
