BEGIN:VCALENDAR
VERSION:2.0
PRODID:SchoolNow
CALSCALE:GREGORIAN
BEGIN:VEVENT
UID:5b867be2-349f-11ef-b199-0efded0f69c3
DTSTAMP:20250913T232634Z
SUMMARY:Interagency Meeting - 11/12/24
LOCATION:WSD - Central Office
URL;VALUE=URI:https://www.wenatcheeschools.org/district-calendars/calendar/
 6176131/interagency-meeting-11-12-24
DTSTART:20241112T183000Z
DTEND:20241112T200000Z
END:VEVENT
END:VCALENDAR
