BEGIN:VCALENDAR
VERSION:2.0
PRODID:SchoolNow
CALSCALE:GREGORIAN
BEGIN:VEVENT
UID:69a07066-349f-11ef-be55-0a58a9feac02
DTSTAMP:20250913T232646Z
SUMMARY:Interagency Meeting - 12/10/24
LOCATION:WSD - Central Office
URL;VALUE=URI:https://www.wenatcheeschools.org/district-calendars/calendar/
 6176132/interagency-meeting-12-10-24
DTSTART:20241210T183000Z
DTEND:20241210T200000Z
END:VEVENT
END:VCALENDAR
