BEGIN:VCALENDAR
VERSION:2.0
PRODID:SchoolNow
CALSCALE:GREGORIAN
BEGIN:VEVENT
UID:73209562-349f-11ef-87fd-0a58a9feac02
DTSTAMP:20250913T232658Z
SUMMARY:Interagency Meeting - 1/14/25
LOCATION:WSD - Central Office
URL;VALUE=URI:https://www.wenatcheeschools.org/district-calendars/calendar/
 6176133/interagency-meeting-1-14-25
DTSTART:20250114T183000Z
DTEND:20250114T200000Z
END:VEVENT
END:VCALENDAR
