BEGIN:VCALENDAR
VERSION:2.0
PRODID:SchoolNow
CALSCALE:GREGORIAN
BEGIN:VEVENT
UID:7cbde19c-349f-11ef-a443-0a58a9feac02
DTSTAMP:20250913T232709Z
SUMMARY:Interagency Meeting - 2/11/25
LOCATION:WSD - Central Office
URL;VALUE=URI:https://www.wenatcheeschools.org/district-calendars/calendar/
 6176134/interagency-meeting-2-11-25
DTSTART:20250211T183000Z
DTEND:20250211T200000Z
END:VEVENT
END:VCALENDAR
