BEGIN:VCALENDAR
VERSION:2.0
PRODID:SchoolNow
CALSCALE:GREGORIAN
BEGIN:VEVENT
UID:859b1da2-349f-11ef-8bd5-0a58a9feac02
DTSTAMP:20250913T232803Z
SUMMARY:Interagency Meeting - 3/11/25
LOCATION:WSD - Central Office
URL;VALUE=URI:https://www.wenatcheeschools.org/district-calendars/calendar/
 6176135/interagency-meeting-3-11-25
DTSTART:20250311T173000Z
DTEND:20250311T190000Z
END:VEVENT
END:VCALENDAR
