BEGIN:VCALENDAR
VERSION:2.0
PRODID:SchoolNow
CALSCALE:GREGORIAN
BEGIN:VEVENT
UID:90294a28-349f-11ef-b370-0a58a9feac02
DTSTAMP:20250913T232828Z
SUMMARY:Interagency Meeting - 4/15/25
LOCATION:WSD - Central Office
URL;VALUE=URI:https://www.wenatcheeschools.org/district-calendars/calendar/
 6176136/interagency-meeting-4-15-25
DTSTART:20250415T173000Z
DTEND:20250415T190000Z
END:VEVENT
END:VCALENDAR
