BEGIN:VCALENDAR
VERSION:2.0
PRODID:SchoolNow
CALSCALE:GREGORIAN
BEGIN:VEVENT
UID:d549a616-349f-11ef-8725-0a58a9feac02
DTSTAMP:20240627T161055Z
SUMMARY:READY! for Kindergarten
LOCATION:MBR\, Ben's Place for childcare
URL;VALUE=URI:https://www.wenatcheeschools.org/district-calendars/calendar/
 6176139/ready-for-kindergarten
DTSTART:20241108T010000Z
DTEND:20241108T033000Z
END:VEVENT
END:VCALENDAR
