BEGIN:VCALENDAR
VERSION:2.0
PRODID:SchoolNow
CALSCALE:GREGORIAN
BEGIN:VEVENT
UID:ec1530f4-349f-11ef-b939-0a58a9feac02
DTSTAMP:20240627T161133Z
SUMMARY:READY! for Kindergarten
LOCATION:MBR\, Ben's Place for childcare
URL;VALUE=URI:https://www.wenatcheeschools.org/district-calendars/calendar/
 6176141/ready-for-kindergarten-clone
DTSTART:20250502T000000Z
DTEND:20250502T023000Z
END:VEVENT
END:VCALENDAR
