BEGIN:VCALENDAR
VERSION:2.0
PRODID:SchoolNow
CALSCALE:GREGORIAN
BEGIN:VEVENT
UID:071ce9aa-3ec8-11ef-af16-0a58a9feac02
DTSTAMP:20240710T142350Z
SUMMARY:Board Meeting
LOCATION:District Office\, 235 Sunset Avenue
URL;VALUE=URI:https://www.wenatcheeschools.org/district-calendars/calendar/
 6242119/board-meeting
DTSTART:20240814T010000Z
DTEND:20240814T020000Z
END:VEVENT
END:VCALENDAR
