BEGIN:VCALENDAR
VERSION:2.0
PRODID:SchoolNow
CALSCALE:GREGORIAN
BEGIN:VEVENT
UID:26358c48-3ec8-11ef-a1d2-0a58a9feac02
DTSTAMP:20240710T142442Z
SUMMARY:Board Meeting
LOCATION:District Office\, 235 Sunset Avenue
URL;VALUE=URI:https://www.wenatcheeschools.org/district-calendars/calendar/
 6242122/board-meeting-clone
DTSTART:20240828T010000Z
DTEND:20240828T020000Z
END:VEVENT
END:VCALENDAR
