BEGIN:VCALENDAR
VERSION:2.0
PRODID:SchoolNow
CALSCALE:GREGORIAN
BEGIN:VEVENT
UID:327f57e0-3ec8-11ef-a56e-0a58a9feac02
DTSTAMP:20240710T142503Z
SUMMARY:Board Meeting
LOCATION:District Office\, 235 Sunset Avenue
URL;VALUE=URI:https://www.wenatcheeschools.org/district-calendars/calendar/
 6242123/board-meeting-clone
DTSTART:20240911T010000Z
DTEND:20240911T020000Z
END:VEVENT
END:VCALENDAR
