BEGIN:VCALENDAR
VERSION:2.0
PRODID:SchoolNow
CALSCALE:GREGORIAN
BEGIN:VEVENT
UID:6fad29a8-3ec8-11ef-af4b-0a58a9feac02
DTSTAMP:20240710T142645Z
SUMMARY:Board Meeting
LOCATION:District Office\, 235 Sunset Avenue
URL;VALUE=URI:https://www.wenatcheeschools.org/district-calendars/calendar/
 6242124/board-meeting-clone
DTSTART:20240925T010000Z
DTEND:20240925T020000Z
END:VEVENT
END:VCALENDAR
