BEGIN:VCALENDAR
VERSION:2.0
PRODID:SchoolNow
CALSCALE:GREGORIAN
BEGIN:VEVENT
UID:8cafad00-3ec8-11ef-90ad-02bd48fb2533
DTSTAMP:20240710T142734Z
SUMMARY:Board Meeting
LOCATION:District Office\, 235 Sunset Avenue
URL;VALUE=URI:https://www.wenatcheeschools.org/district-calendars/calendar/
 6242127/board-meeting-clone
DTSTART:20241009T010000Z
DTEND:20241009T020000Z
END:VEVENT
END:VCALENDAR
