BEGIN:VCALENDAR
VERSION:2.0
PRODID:SchoolNow
CALSCALE:GREGORIAN
BEGIN:VEVENT
UID:98ba4be6-3ec8-11ef-9bd6-0a58a9feac02
DTSTAMP:20240710T142754Z
SUMMARY:Board Meeting
LOCATION:District Office\, 235 Sunset Avenue
URL;VALUE=URI:https://www.wenatcheeschools.org/district-calendars/calendar/
 6242128/board-meeting-clone
DTSTART:20241023T010000Z
DTEND:20241023T020000Z
END:VEVENT
END:VCALENDAR
