BEGIN:VCALENDAR
VERSION:2.0
PRODID:SchoolNow
CALSCALE:GREGORIAN
BEGIN:VEVENT
UID:a4f9ec90-3ec8-11ef-8588-0a58a9feac02
DTSTAMP:20240710T142815Z
SUMMARY:Board Meeting
LOCATION:District Office\, 235 Sunset Avenue
URL;VALUE=URI:https://www.wenatcheeschools.org/district-calendars/calendar/
 6242129/board-meeting-clone
DTSTART:20241113T020000Z
DTEND:20241113T030000Z
END:VEVENT
END:VCALENDAR
