BEGIN:VCALENDAR
VERSION:2.0
PRODID:SchoolNow
CALSCALE:GREGORIAN
BEGIN:VEVENT
UID:c139d212-3ec8-11ef-9251-02bd48fb2533
DTSTAMP:20240710T142902Z
SUMMARY:Board Meeting
LOCATION:District Office\, 235 Sunset Avenue
URL;VALUE=URI:https://www.wenatcheeschools.org/district-calendars/calendar/
 6242130/board-meeting-clone
DTSTART:20241127T020000Z
DTEND:20241127T030000Z
END:VEVENT
END:VCALENDAR
