BEGIN:VCALENDAR
VERSION:2.0
PRODID:SchoolNow
CALSCALE:GREGORIAN
BEGIN:VEVENT
UID:cdd2a18e-3ec8-11ef-aa2b-0a58a9feac02
DTSTAMP:20240710T142923Z
SUMMARY:Board Meeting
LOCATION:District Office\, 235 Sunset Avenue
URL;VALUE=URI:https://www.wenatcheeschools.org/district-calendars/calendar/
 6242131/board-meeting-clone
DTSTART:20241211T020000Z
DTEND:20241211T030000Z
END:VEVENT
END:VCALENDAR
