BEGIN:VCALENDAR
VERSION:2.0
PRODID:SchoolNow
CALSCALE:GREGORIAN
BEGIN:VEVENT
UID:d7af6d18-3ec8-11ef-8004-0a58a9feac02
DTSTAMP:20240710T142940Z
SUMMARY:Board Meeting
LOCATION:District Office\, 235 Sunset Avenue
URL;VALUE=URI:https://www.wenatcheeschools.org/district-calendars/calendar/
 6242132/board-meeting-clone
DTSTART:20250115T020000Z
DTEND:20250115T030000Z
END:VEVENT
END:VCALENDAR
