BEGIN:VCALENDAR
VERSION:2.0
PRODID:SchoolNow
CALSCALE:GREGORIAN
BEGIN:VEVENT
UID:e9433730-3ec8-11ef-b99f-0ecd12c63423
DTSTAMP:20240710T143009Z
SUMMARY:Board Meeting
LOCATION:District Office\, 235 Sunset Avenue
URL;VALUE=URI:https://www.wenatcheeschools.org/district-calendars/calendar/
 6242134/board-meeting-clone
DTSTART:20250129T020000Z
DTEND:20250129T030000Z
END:VEVENT
END:VCALENDAR
