BEGIN:VCALENDAR
VERSION:2.0
PRODID:SchoolNow
CALSCALE:GREGORIAN
BEGIN:VEVENT
UID:f5879522-3ec8-11ef-a816-0ed0a03c07c9
DTSTAMP:20240710T143030Z
SUMMARY:Board Meeting
LOCATION:District Office\, 235 Sunset Avenue
URL;VALUE=URI:https://www.wenatcheeschools.org/district-calendars/calendar/
 6242136/board-meeting-clone
DTSTART:20250212T020000Z
DTEND:20250212T030000Z
END:VEVENT
END:VCALENDAR
