BEGIN:VCALENDAR
VERSION:2.0
PRODID:SchoolNow
CALSCALE:GREGORIAN
BEGIN:VEVENT
UID:fea907a8-3ec8-11ef-857d-0a58a9feac02
DTSTAMP:20240710T143045Z
SUMMARY:Board Meeting
LOCATION:District Office\, 235 Sunset Avenue
URL;VALUE=URI:https://www.wenatcheeschools.org/district-calendars/calendar/
 6242138/board-meeting-clone
DTSTART:20250226T020000Z
DTEND:20250226T030000Z
END:VEVENT
END:VCALENDAR
