BEGIN:VCALENDAR
VERSION:2.0
PRODID:SchoolNow
CALSCALE:GREGORIAN
BEGIN:VEVENT
UID:091f181c-3ec9-11ef-973f-0afff4bbac61
DTSTAMP:20240710T143103Z
SUMMARY:Board Meeting
LOCATION:District Office\, 235 Sunset Avenue
URL;VALUE=URI:https://www.wenatcheeschools.org/district-calendars/calendar/
 6242139/board-meeting-clone
DTSTART:20250312T010000Z
DTEND:20250312T020000Z
END:VEVENT
END:VCALENDAR
