BEGIN:VCALENDAR
VERSION:2.0
PRODID:SchoolNow
CALSCALE:GREGORIAN
BEGIN:VEVENT
UID:13416778-3ec9-11ef-8293-0a58a9feac02
DTSTAMP:20240710T143120Z
SUMMARY:Board Meeting
LOCATION:District Office\, 235 Sunset Avenue
URL;VALUE=URI:https://www.wenatcheeschools.org/district-calendars/calendar/
 6242141/board-meeting-clone
DTSTART:20250326T010000Z
DTEND:20250326T020000Z
END:VEVENT
END:VCALENDAR
