BEGIN:VCALENDAR
VERSION:2.0
PRODID:SchoolNow
CALSCALE:GREGORIAN
BEGIN:VEVENT
UID:1d21f2f8-3ec9-11ef-99b1-0affdc83b94b
DTSTAMP:20240710T143136Z
SUMMARY:Board Meeting
LOCATION:District Office\, 235 Sunset Avenue
URL;VALUE=URI:https://www.wenatcheeschools.org/district-calendars/calendar/
 6242143/board-meeting-clone
DTSTART:20250402T010000Z
DTEND:20250402T020000Z
END:VEVENT
END:VCALENDAR
