BEGIN:VCALENDAR
VERSION:2.0
PRODID:SchoolNow
CALSCALE:GREGORIAN
BEGIN:VEVENT
UID:26a8c374-3ec9-11ef-b413-0affdc83b94b
DTSTAMP:20240710T143152Z
SUMMARY:Board Meeting
LOCATION:District Office\, 235 Sunset Avenue
URL;VALUE=URI:https://www.wenatcheeschools.org/district-calendars/calendar/
 6242145/board-meeting-clone
DTSTART:20250423T010000Z
DTEND:20250423T020000Z
END:VEVENT
END:VCALENDAR
