BEGIN:VCALENDAR
VERSION:2.0
PRODID:SchoolNow
CALSCALE:GREGORIAN
BEGIN:VEVENT
UID:3add612e-3ec9-11ef-89fb-02bd48fb2533
DTSTAMP:20240710T143226Z
SUMMARY:Board Meeting
LOCATION:District Office\, 235 Sunset Avenue
URL;VALUE=URI:https://www.wenatcheeschools.org/district-calendars/calendar/
 6242149/board-meeting-clone
DTSTART:20250528T010000Z
DTEND:20250528T020000Z
END:VEVENT
END:VCALENDAR
