BEGIN:VCALENDAR
VERSION:2.0
PRODID:SchoolNow
CALSCALE:GREGORIAN
BEGIN:VEVENT
UID:45ec23e8-3ec9-11ef-aa50-02bd48fb2533
DTSTAMP:20240710T143245Z
SUMMARY:Board Meeting
LOCATION:District Office\, 235 Sunset Avenue
URL;VALUE=URI:https://www.wenatcheeschools.org/district-calendars/calendar/
 6242151/board-meeting-clone
DTSTART:20250604T010000Z
DTEND:20250604T020000Z
END:VEVENT
END:VCALENDAR
