BEGIN:VCALENDAR
VERSION:2.0
PRODID:SchoolNow
CALSCALE:GREGORIAN
BEGIN:VEVENT
UID:9f2cebc2-3ec9-11ef-97c2-0e79aae2087f
DTSTAMP:20240710T143741Z
SUMMARY:Board Workshop
LOCATION:District Office\, 235 Sunset Avenue
URL;VALUE=URI:https://www.wenatcheeschools.org/district-calendars/calendar/
 6242156/board-workshop
DTSTART:20240819T200000Z
DTEND:20240819T210000Z
END:VEVENT
END:VCALENDAR
